BEGIN:VCALENDAR
VERSION:2.0
PRODID:-//Queen City: Buffalo&#039;s Tribute To Queen - ECPv6.13.2.1//NONSGML v1.0//EN
CALSCALE:GREGORIAN
METHOD:PUBLISH
X-WR-CALNAME:Queen City: Buffalo&#039;s Tribute To Queen
X-ORIGINAL-URL:https://tributetoqueen.com
X-WR-CALDESC:Events for Queen City: Buffalo&#039;s Tribute To Queen
REFRESH-INTERVAL;VALUE=DURATION:PT1H
X-Robots-Tag:noindex
X-PUBLISHED-TTL:PT1H
BEGIN:VTIMEZONE
TZID:America/New_York
BEGIN:DAYLIGHT
TZOFFSETFROM:-0500
TZOFFSETTO:-0400
TZNAME:EDT
DTSTART:20260308T070000
END:DAYLIGHT
BEGIN:STANDARD
TZOFFSETFROM:-0400
TZOFFSETTO:-0500
TZNAME:EST
DTSTART:20261101T060000
END:STANDARD
END:VTIMEZONE
BEGIN:VEVENT
DTSTART;TZID=America/New_York:20260529T200000
DTEND;TZID=America/New_York:20260529T230000
DTSTAMP:20260425T092108
CREATED:20260425T040319Z
LAST-MODIFIED:20260425T040319Z
UID:10000037-1780084800-1780095600@tributetoqueen.com
SUMMARY:Queen City at Mister's
DESCRIPTION:Queen City makes its first appearance at Mister’s in East Aurora\, bringing a powerful live tribute to the music of Queen. Expect a set packed with classic hits\, rich harmonies\, and energetic performances that capture the spirit of the original band.
URL:https://tributetoqueen.com/event/queen-city-at-misters/
LOCATION:Mister’s\, 206 Main Street\, East Aurora\, NY\, 14052\, United States
END:VEVENT
END:VCALENDAR